BEGIN:VCALENDAR
PRODID:-//HKUST Drupal Platform//EN
VERSION:2.0
BEGIN:VTIMEZONE
TZID:Asia/Hong_Kong
BEGIN:STANDARD
DTSTART:20071104T020000
TZOFFSETFROM:+0700
TZOFFSETTO:+0800
TZNAME:HKT
END:STANDARD
END:VTIMEZONE
BEGIN:VEVENT
DTSTAMP;TZID=Asia/Hong_Kong:20260425T091635
DTSTART;TZID=Asia/Hong_Kong:20170909T103000
DTEND;TZID=Asia/Hong_Kong:20170909T133000
LOCATION:Room 3301, Academic Building (Lift no. 2)
SUMMARY:PhD in Humanities - The Historical Evolution of Chinese Tones and Their Splitting and Merger in Contemporary Dialects: The Interaction between Phonation, Duration and Pitch
UID:25398
END:VEVENT
END:VCALENDAR