BEGIN:VCALENDAR
PRODID:-//HKUST Drupal Platform//EN
VERSION:2.0
BEGIN:VTIMEZONE
TZID:Asia/Hong_Kong
BEGIN:STANDARD
DTSTART:20071104T020000
TZOFFSETFROM:+0700
TZOFFSETTO:+0800
TZNAME:HKT
END:STANDARD
END:VTIMEZONE
BEGIN:VEVENT
DTSTAMP;TZID=Asia/Hong_Kong:20260425T185522
DTSTART;TZID=Asia/Hong_Kong:20170919T140000
DTEND;TZID=Asia/Hong_Kong:20170919T170000
LOCATION:Room 4475 (Lifts 25-26), 4/F Academic Building, HKUST
SUMMARY:MPhil in Electronic & Comp Engg - Techniques for Improving Li-Fi Data Rate for Display Systems with Visible Light Communication Capability
UID:25367
END:VEVENT
END:VCALENDAR