BEGIN:VCALENDAR
PRODID:-//HKUST Drupal Platform//EN
VERSION:2.0
BEGIN:VTIMEZONE
TZID:Asia/Hong_Kong
BEGIN:STANDARD
DTSTART:20071104T020000
TZOFFSETFROM:+0700
TZOFFSETTO:+0800
TZNAME:HKT
END:STANDARD
END:VTIMEZONE
BEGIN:VEVENT
DTSTAMP;TZID=Asia/Hong_Kong:20260425T185522
DTSTART;TZID=Asia/Hong_Kong:20170919T140000
DTEND;TZID=Asia/Hong_Kong:20170919T170000
LOCATION:Room 5619 (Lift 31-32), 5/F Academic Building, HKUST
SUMMARY:PhD in Life Science - Wnt3a Induces the Transcription of Acetylcholinesterase: An Enzyme Playing a Role in Osteoblastic Differentiation
UID:25366
END:VEVENT
END:VCALENDAR