BEGIN:VCALENDAR
PRODID:-//HKUST Drupal Platform//EN
VERSION:2.0
BEGIN:VTIMEZONE
TZID:Asia/Hong_Kong
BEGIN:STANDARD
DTSTART:20071104T020000
TZOFFSETFROM:+0700
TZOFFSETTO:+0800
TZNAME:HKT
END:STANDARD
END:VTIMEZONE
BEGIN:VEVENT
DTSTAMP;TZID=Asia/Hong_Kong:20260425T185516
DTSTART;TZID=Asia/Hong_Kong:20170920T100000
DTEND;TZID=Asia/Hong_Kong:20170920T130000
LOCATION:Room 5562 (Lifts 27-28), 5/F Academic Building, HKUST
SUMMARY:MPhil in Chem & Biomolecular Engg - Extracorporeal Blood Purification by Utilization of Adsorption Material
UID:25364
END:VEVENT
END:VCALENDAR