BEGIN:VCALENDAR
PRODID:-//HKUST Drupal Platform//EN
VERSION:2.0
BEGIN:VTIMEZONE
TZID:Asia/Hong_Kong
BEGIN:STANDARD
DTSTART:20071104T020000
TZOFFSETFROM:+0700
TZOFFSETTO:+0800
TZNAME:HKT
END:STANDARD
END:VTIMEZONE
BEGIN:VEVENT
DTSTAMP;TZID=Asia/Hong_Kong:20260420T192514
DTSTART;TZID=Asia/Hong_Kong:20170921T190000
DTEND;TZID=Asia/Hong_Kong:20170921T210000
LOCATION:Tsang Shiu Tim Art Hall
SUMMARY:Cultural Talk 文化按摩師 Cultural Masseur: 埋嚟講 – 藝壇面面觀 講舞蹈 ‧ 廣藝術
UID:25354
END:VEVENT
END:VCALENDAR