BEGIN:VCALENDAR
PRODID:-//HKUST Drupal Platform//EN
VERSION:2.0
BEGIN:VTIMEZONE
TZID:Asia/Hong_Kong
BEGIN:STANDARD
DTSTART:20071104T020000
TZOFFSETFROM:+0700
TZOFFSETTO:+0800
TZNAME:HKT
END:STANDARD
END:VTIMEZONE
BEGIN:VEVENT
DTSTAMP;TZID=Asia/Hong_Kong:20260425T224301
DTSTART;TZID=Asia/Hong_Kong:20171017T100000
DTEND;TZID=Asia/Hong_Kong:20171017T130000
LOCATION:Room 2408 (Lift 17-18), 2/F Academic Building, HKUST
SUMMARY:MPhil in Life Science - Phage Infection Affects Phosphate Uptake of the Cyanobacterium Prochlorococcus
UID:25291
END:VEVENT
END:VCALENDAR