BEGIN:VCALENDAR
PRODID:-//HKUST Drupal Platform//EN
VERSION:2.0
BEGIN:VTIMEZONE
TZID:Asia/Hong_Kong
BEGIN:STANDARD
DTSTART:20071104T020000
TZOFFSETFROM:+0700
TZOFFSETTO:+0800
TZNAME:HKT
END:STANDARD
END:VTIMEZONE
BEGIN:VEVENT
DTSTAMP;TZID=Asia/Hong_Kong:20260420T163806
DTSTART;TZID=Asia/Hong_Kong:20171019T193000
DTEND;TZID=Asia/Hong_Kong:20171019T210000
LOCATION:Tsang Shiu Tim Art Hall
SUMMARY:Artist-in-Residence 2017-18: Medieval Music DIY (Workshops I & II)
UID:25283
END:VEVENT
BEGIN:VEVENT
DTSTAMP;TZID=Asia/Hong_Kong:20260420T163806
DTSTART;TZID=Asia/Hong_Kong:20171020T193000
DTEND;TZID=Asia/Hong_Kong:20171020T210000
LOCATION:Tsang Shiu Tim Art Hall
SUMMARY:Artist-in-Residence 2017-18: Medieval Music DIY (Workshops I & II)
UID:25283
END:VEVENT
BEGIN:VEVENT
DTSTAMP;TZID=Asia/Hong_Kong:20260420T163806
DTSTART;TZID=Asia/Hong_Kong:20171021T193000
DTEND;TZID=Asia/Hong_Kong:20171021T210000
LOCATION:Tsang Shiu Tim Art Hall
SUMMARY:Artist-in-Residence 2017-18: Medieval Music DIY (Workshops I & II)
UID:25283
END:VEVENT
BEGIN:VEVENT
DTSTAMP;TZID=Asia/Hong_Kong:20260420T163806
DTSTART;TZID=Asia/Hong_Kong:20171022T193000
DTEND;TZID=Asia/Hong_Kong:20171022T210000
LOCATION:Tsang Shiu Tim Art Hall
SUMMARY:Artist-in-Residence 2017-18: Medieval Music DIY (Workshops I & II)
UID:25283
END:VEVENT
BEGIN:VEVENT
DTSTAMP;TZID=Asia/Hong_Kong:20260420T163806
DTSTART;TZID=Asia/Hong_Kong:20171023T193000
DTEND;TZID=Asia/Hong_Kong:20171023T210000
LOCATION:Tsang Shiu Tim Art Hall
SUMMARY:Artist-in-Residence 2017-18: Medieval Music DIY (Workshops I & II)
UID:25283
END:VEVENT
BEGIN:VEVENT
DTSTAMP;TZID=Asia/Hong_Kong:20260420T163806
DTSTART;TZID=Asia/Hong_Kong:20171024T193000
DTEND;TZID=Asia/Hong_Kong:20171024T210000
LOCATION:Tsang Shiu Tim Art Hall
SUMMARY:Artist-in-Residence 2017-18: Medieval Music DIY (Workshops I & II)
UID:25283
END:VEVENT
BEGIN:VEVENT
DTSTAMP;TZID=Asia/Hong_Kong:20260420T163806
DTSTART;TZID=Asia/Hong_Kong:20171025T193000
DTEND;TZID=Asia/Hong_Kong:20171025T210000
LOCATION:Tsang Shiu Tim Art Hall
SUMMARY:Artist-in-Residence 2017-18: Medieval Music DIY (Workshops I & II)
UID:25283
END:VEVENT
BEGIN:VEVENT
DTSTAMP;TZID=Asia/Hong_Kong:20260420T163806
DTSTART;TZID=Asia/Hong_Kong:20171026T193000
DTEND;TZID=Asia/Hong_Kong:20171026T210000
LOCATION:Tsang Shiu Tim Art Hall
SUMMARY:Artist-in-Residence 2017-18: Medieval Music DIY (Workshops I & II)
UID:25283
END:VEVENT
BEGIN:VEVENT
DTSTAMP;TZID=Asia/Hong_Kong:20260420T163806
DTSTART;TZID=Asia/Hong_Kong:20171027T193000
DTEND;TZID=Asia/Hong_Kong:20171027T210000
LOCATION:Tsang Shiu Tim Art Hall
SUMMARY:Artist-in-Residence 2017-18: Medieval Music DIY (Workshops I & II)
UID:25283
END:VEVENT
BEGIN:VEVENT
DTSTAMP;TZID=Asia/Hong_Kong:20260420T163806
DTSTART;TZID=Asia/Hong_Kong:20171028T193000
DTEND;TZID=Asia/Hong_Kong:20171028T210000
LOCATION:Tsang Shiu Tim Art Hall
SUMMARY:Artist-in-Residence 2017-18: Medieval Music DIY (Workshops I & II)
UID:25283
END:VEVENT
BEGIN:VEVENT
DTSTAMP;TZID=Asia/Hong_Kong:20260420T163806
DTSTART;TZID=Asia/Hong_Kong:20171029T193000
DTEND;TZID=Asia/Hong_Kong:20171029T210000
LOCATION:Tsang Shiu Tim Art Hall
SUMMARY:Artist-in-Residence 2017-18: Medieval Music DIY (Workshops I & II)
UID:25283
END:VEVENT
BEGIN:VEVENT
DTSTAMP;TZID=Asia/Hong_Kong:20260420T163806
DTSTART;TZID=Asia/Hong_Kong:20171030T193000
DTEND;TZID=Asia/Hong_Kong:20171030T210000
LOCATION:Tsang Shiu Tim Art Hall
SUMMARY:Artist-in-Residence 2017-18: Medieval Music DIY (Workshops I & II)
UID:25283
END:VEVENT
BEGIN:VEVENT
DTSTAMP;TZID=Asia/Hong_Kong:20260420T163806
DTSTART;TZID=Asia/Hong_Kong:20171031T193000
DTEND;TZID=Asia/Hong_Kong:20171031T210000
LOCATION:Tsang Shiu Tim Art Hall
SUMMARY:Artist-in-Residence 2017-18: Medieval Music DIY (Workshops I & II)
UID:25283
END:VEVENT
BEGIN:VEVENT
DTSTAMP;TZID=Asia/Hong_Kong:20260420T163806
DTSTART;TZID=Asia/Hong_Kong:20171101T193000
DTEND;TZID=Asia/Hong_Kong:20171101T210000
LOCATION:Tsang Shiu Tim Art Hall
SUMMARY:Artist-in-Residence 2017-18: Medieval Music DIY (Workshops I & II)
UID:25283
END:VEVENT
BEGIN:VEVENT
DTSTAMP;TZID=Asia/Hong_Kong:20260420T163806
DTSTART;TZID=Asia/Hong_Kong:20171102T193000
DTEND;TZID=Asia/Hong_Kong:20171102T210000
LOCATION:Tsang Shiu Tim Art Hall
SUMMARY:Artist-in-Residence 2017-18: Medieval Music DIY (Workshops I & II)
UID:25283
END:VEVENT
BEGIN:VEVENT
DTSTAMP;TZID=Asia/Hong_Kong:20260420T163806
DTSTART;TZID=Asia/Hong_Kong:20171103T193000
DTEND;TZID=Asia/Hong_Kong:20171103T210000
LOCATION:Tsang Shiu Tim Art Hall
SUMMARY:Artist-in-Residence 2017-18: Medieval Music DIY (Workshops I & II)
UID:25283
END:VEVENT
BEGIN:VEVENT
DTSTAMP;TZID=Asia/Hong_Kong:20260420T163806
DTSTART;TZID=Asia/Hong_Kong:20171104T193000
DTEND;TZID=Asia/Hong_Kong:20171104T210000
LOCATION:Tsang Shiu Tim Art Hall
SUMMARY:Artist-in-Residence 2017-18: Medieval Music DIY (Workshops I & II)
UID:25283
END:VEVENT
BEGIN:VEVENT
DTSTAMP;TZID=Asia/Hong_Kong:20260420T163806
DTSTART;TZID=Asia/Hong_Kong:20171105T193000
DTEND;TZID=Asia/Hong_Kong:20171105T210000
LOCATION:Tsang Shiu Tim Art Hall
SUMMARY:Artist-in-Residence 2017-18: Medieval Music DIY (Workshops I & II)
UID:25283
END:VEVENT
BEGIN:VEVENT
DTSTAMP;TZID=Asia/Hong_Kong:20260420T163806
DTSTART;TZID=Asia/Hong_Kong:20171106T193000
DTEND;TZID=Asia/Hong_Kong:20171106T210000
LOCATION:Tsang Shiu Tim Art Hall
SUMMARY:Artist-in-Residence 2017-18: Medieval Music DIY (Workshops I & II)
UID:25283
END:VEVENT
BEGIN:VEVENT
DTSTAMP;TZID=Asia/Hong_Kong:20260420T163806
DTSTART;TZID=Asia/Hong_Kong:20171107T193000
DTEND;TZID=Asia/Hong_Kong:20171107T210000
LOCATION:Tsang Shiu Tim Art Hall
SUMMARY:Artist-in-Residence 2017-18: Medieval Music DIY (Workshops I & II)
UID:25283
END:VEVENT
BEGIN:VEVENT
DTSTAMP;TZID=Asia/Hong_Kong:20260420T163806
DTSTART;TZID=Asia/Hong_Kong:20171108T193000
DTEND;TZID=Asia/Hong_Kong:20171108T210000
LOCATION:Tsang Shiu Tim Art Hall
SUMMARY:Artist-in-Residence 2017-18: Medieval Music DIY (Workshops I & II)
UID:25283
END:VEVENT
BEGIN:VEVENT
DTSTAMP;TZID=Asia/Hong_Kong:20260420T163806
DTSTART;TZID=Asia/Hong_Kong:20171109T193000
DTEND;TZID=Asia/Hong_Kong:20171109T210000
LOCATION:Tsang Shiu Tim Art Hall
SUMMARY:Artist-in-Residence 2017-18: Medieval Music DIY (Workshops I & II)
UID:25283
END:VEVENT
BEGIN:VEVENT
DTSTAMP;TZID=Asia/Hong_Kong:20260420T163806
DTSTART;TZID=Asia/Hong_Kong:20171110T193000
DTEND;TZID=Asia/Hong_Kong:20171110T210000
LOCATION:Tsang Shiu Tim Art Hall
SUMMARY:Artist-in-Residence 2017-18: Medieval Music DIY (Workshops I & II)
UID:25283
END:VEVENT
BEGIN:VEVENT
DTSTAMP;TZID=Asia/Hong_Kong:20260420T163806
DTSTART;TZID=Asia/Hong_Kong:20171111T193000
DTEND;TZID=Asia/Hong_Kong:20171111T210000
LOCATION:Tsang Shiu Tim Art Hall
SUMMARY:Artist-in-Residence 2017-18: Medieval Music DIY (Workshops I & II)
UID:25283
END:VEVENT
BEGIN:VEVENT
DTSTAMP;TZID=Asia/Hong_Kong:20260420T163806
DTSTART;TZID=Asia/Hong_Kong:20171112T193000
DTEND;TZID=Asia/Hong_Kong:20171112T210000
LOCATION:Tsang Shiu Tim Art Hall
SUMMARY:Artist-in-Residence 2017-18: Medieval Music DIY (Workshops I & II)
UID:25283
END:VEVENT
BEGIN:VEVENT
DTSTAMP;TZID=Asia/Hong_Kong:20260420T163806
DTSTART;TZID=Asia/Hong_Kong:20171113T193000
DTEND;TZID=Asia/Hong_Kong:20171113T210000
LOCATION:Tsang Shiu Tim Art Hall
SUMMARY:Artist-in-Residence 2017-18: Medieval Music DIY (Workshops I & II)
UID:25283
END:VEVENT
BEGIN:VEVENT
DTSTAMP;TZID=Asia/Hong_Kong:20260420T163806
DTSTART;TZID=Asia/Hong_Kong:20171114T193000
DTEND;TZID=Asia/Hong_Kong:20171114T210000
LOCATION:Tsang Shiu Tim Art Hall
SUMMARY:Artist-in-Residence 2017-18: Medieval Music DIY (Workshops I & II)
UID:25283
END:VEVENT
BEGIN:VEVENT
DTSTAMP;TZID=Asia/Hong_Kong:20260420T163806
DTSTART;TZID=Asia/Hong_Kong:20171115T193000
DTEND;TZID=Asia/Hong_Kong:20171115T210000
LOCATION:Tsang Shiu Tim Art Hall
SUMMARY:Artist-in-Residence 2017-18: Medieval Music DIY (Workshops I & II)
UID:25283
END:VEVENT
BEGIN:VEVENT
DTSTAMP;TZID=Asia/Hong_Kong:20260420T163806
DTSTART;TZID=Asia/Hong_Kong:20171116T193000
DTEND;TZID=Asia/Hong_Kong:20171116T210000
LOCATION:Tsang Shiu Tim Art Hall
SUMMARY:Artist-in-Residence 2017-18: Medieval Music DIY (Workshops I & II)
UID:25283
END:VEVENT
BEGIN:VEVENT
DTSTAMP;TZID=Asia/Hong_Kong:20260420T163806
DTSTART;TZID=Asia/Hong_Kong:20171117T193000
DTEND;TZID=Asia/Hong_Kong:20171117T210000
LOCATION:Tsang Shiu Tim Art Hall
SUMMARY:Artist-in-Residence 2017-18: Medieval Music DIY (Workshops I & II)
UID:25283
END:VEVENT
BEGIN:VEVENT
DTSTAMP;TZID=Asia/Hong_Kong:20260420T163806
DTSTART;TZID=Asia/Hong_Kong:20171118T193000
DTEND;TZID=Asia/Hong_Kong:20171118T210000
LOCATION:Tsang Shiu Tim Art Hall
SUMMARY:Artist-in-Residence 2017-18: Medieval Music DIY (Workshops I & II)
UID:25283
END:VEVENT
BEGIN:VEVENT
DTSTAMP;TZID=Asia/Hong_Kong:20260420T163806
DTSTART;TZID=Asia/Hong_Kong:20171119T193000
DTEND;TZID=Asia/Hong_Kong:20171119T210000
LOCATION:Tsang Shiu Tim Art Hall
SUMMARY:Artist-in-Residence 2017-18: Medieval Music DIY (Workshops I & II)
UID:25283
END:VEVENT
BEGIN:VEVENT
DTSTAMP;TZID=Asia/Hong_Kong:20260420T163806
DTSTART;TZID=Asia/Hong_Kong:20171120T193000
DTEND;TZID=Asia/Hong_Kong:20171120T210000
LOCATION:Tsang Shiu Tim Art Hall
SUMMARY:Artist-in-Residence 2017-18: Medieval Music DIY (Workshops I & II)
UID:25283
END:VEVENT
BEGIN:VEVENT
DTSTAMP;TZID=Asia/Hong_Kong:20260420T163806
DTSTART;TZID=Asia/Hong_Kong:20171121T193000
DTEND;TZID=Asia/Hong_Kong:20171121T210000
LOCATION:Tsang Shiu Tim Art Hall
SUMMARY:Artist-in-Residence 2017-18: Medieval Music DIY (Workshops I & II)
UID:25283
END:VEVENT
BEGIN:VEVENT
DTSTAMP;TZID=Asia/Hong_Kong:20260420T163806
DTSTART;TZID=Asia/Hong_Kong:20171122T193000
DTEND;TZID=Asia/Hong_Kong:20171122T210000
LOCATION:Tsang Shiu Tim Art Hall
SUMMARY:Artist-in-Residence 2017-18: Medieval Music DIY (Workshops I & II)
UID:25283
END:VEVENT
BEGIN:VEVENT
DTSTAMP;TZID=Asia/Hong_Kong:20260420T163806
DTSTART;TZID=Asia/Hong_Kong:20171123T193000
DTEND;TZID=Asia/Hong_Kong:20171123T210000
LOCATION:Tsang Shiu Tim Art Hall
SUMMARY:Artist-in-Residence 2017-18: Medieval Music DIY (Workshops I & II)
UID:25283
END:VEVENT
END:VCALENDAR