BEGIN:VCALENDAR
PRODID:-//HKUST Drupal Platform//EN
VERSION:2.0
BEGIN:VTIMEZONE
TZID:Asia/Hong_Kong
BEGIN:STANDARD
DTSTART:20071104T020000
TZOFFSETFROM:+0700
TZOFFSETTO:+0800
TZNAME:HKT
END:STANDARD
END:VTIMEZONE
BEGIN:VEVENT
DTSTAMP;TZID=Asia/Hong_Kong:20260425T224306
DTSTART;TZID=Asia/Hong_Kong:20171101T150000
DTEND;TZID=Asia/Hong_Kong:20171101T180000
LOCATION:Room 1504 (Lifts 25-26), 1/F Academic Building, HKUST
SUMMARY:MPhil in Electronic & Comp Engg - Content and Location based Big Data Analytics for Mobile Notification Delivery
UID:25247
END:VEVENT
END:VCALENDAR