BEGIN:VCALENDAR
PRODID:-//HKUST Drupal Platform//EN
VERSION:2.0
BEGIN:VTIMEZONE
TZID:Asia/Hong_Kong
BEGIN:STANDARD
DTSTART:20071104T020000
TZOFFSETFROM:+0700
TZOFFSETTO:+0800
TZNAME:HKT
END:STANDARD
END:VTIMEZONE
BEGIN:VEVENT
DTSTAMP;TZID=Asia/Hong_Kong:20260425T212617
DTSTART;TZID=Asia/Hong_Kong:20171102T143000
DTEND;TZID=Asia/Hong_Kong:20171102T173000
LOCATION:Room 5047, 5/F Lee Shau Kee Business Building, HKUST
SUMMARY:PhD in Finance - Shareholder Horizon, Implicit Incentives, and CEO Compensation Design
UID:25242
END:VEVENT
END:VCALENDAR