BEGIN:VCALENDAR
PRODID:-//HKUST Drupal Platform//EN
VERSION:2.0
BEGIN:VTIMEZONE
TZID:Asia/Hong_Kong
BEGIN:STANDARD
DTSTART:20071104T020000
TZOFFSETFROM:+0700
TZOFFSETTO:+0800
TZNAME:HKT
END:STANDARD
END:VTIMEZONE
BEGIN:VEVENT
DTSTAMP;TZID=Asia/Hong_Kong:20260425T185520
DTSTART;TZID=Asia/Hong_Kong:20171110T100000
DTEND;TZID=Asia/Hong_Kong:20171110T130000
LOCATION:Room 3301 (Lift 2), 3/F Academic Building
SUMMARY:PhD in Humanities - The Concept \"Heaven\" in the Philosophy of Zhuangzi  莊子天論闡微
UID:25219
END:VEVENT
END:VCALENDAR