BEGIN:VCALENDAR
PRODID:-//HKUST Drupal Platform//EN
VERSION:2.0
BEGIN:VTIMEZONE
TZID:Asia/Hong_Kong
BEGIN:STANDARD
DTSTART:20071104T020000
TZOFFSETFROM:+0700
TZOFFSETTO:+0800
TZNAME:HKT
END:STANDARD
END:VTIMEZONE
BEGIN:VEVENT
DTSTAMP;TZID=Asia/Hong_Kong:20260425T224303
DTSTART;TZID=Asia/Hong_Kong:20171110T143000
DTEND;TZID=Asia/Hong_Kong:20171110T173000
LOCATION:Room 1505 (Lifts 25-26), 1/F Academic Building, HKUST
SUMMARY:PhD in Physics - Fluctuations in Turbulent Rayleigh-Bénard Convection: From Boundary Layers to Large Scale Flows
UID:25214
END:VEVENT
END:VCALENDAR