BEGIN:VCALENDAR
PRODID:-//HKUST Drupal Platform//EN
VERSION:2.0
BEGIN:VTIMEZONE
TZID:Asia/Hong_Kong
BEGIN:STANDARD
DTSTART:20071104T020000
TZOFFSETFROM:+0700
TZOFFSETTO:+0800
TZNAME:HKT
END:STANDARD
END:VTIMEZONE
BEGIN:VEVENT
DTSTAMP;TZID=Asia/Hong_Kong:20260425T185519
DTSTART;TZID=Asia/Hong_Kong:20171120T140000
DTEND;TZID=Asia/Hong_Kong:20171120T160000
LOCATION:Room 5510 (lifts 25/26)
SUMMARY:MPhil in Computer Science and Engineering - Joint Embeddings of Chinese Words, Characters, and Fine-grained  Subcharacter Components
UID:25182
END:VEVENT
END:VCALENDAR