BEGIN:VCALENDAR
PRODID:-//HKUST Drupal Platform//EN
VERSION:2.0
BEGIN:VTIMEZONE
TZID:Asia/Hong_Kong
BEGIN:STANDARD
DTSTART:20071104T020000
TZOFFSETFROM:+0700
TZOFFSETTO:+0800
TZNAME:HKT
END:STANDARD
END:VTIMEZONE
BEGIN:VEVENT
DTSTAMP;TZID=Asia/Hong_Kong:20260425T191302
DTSTART;TZID=Asia/Hong_Kong:20171121T110000
DTEND;TZID=Asia/Hong_Kong:20171121T140000
LOCATION:Room 4472 (Lifts 25 &26), 4/F Academic Building, HKUST
SUMMARY:MPhil in Electronic and Computer Engineering - LARGE SCALE WIFI INDOOR LOCALIZATION
UID:25174
END:VEVENT
END:VCALENDAR