BEGIN:VCALENDAR
PRODID:-//HKUST Drupal Platform//EN
VERSION:2.0
BEGIN:VTIMEZONE
TZID:Asia/Hong_Kong
BEGIN:STANDARD
DTSTART:20071104T020000
TZOFFSETFROM:+0700
TZOFFSETTO:+0800
TZNAME:HKT
END:STANDARD
END:VTIMEZONE
BEGIN:VEVENT
DTSTAMP;TZID=Asia/Hong_Kong:20260420T163805
DTSTART;TZID=Asia/Hong_Kong:20171122T193000
DTEND;TZID=Asia/Hong_Kong:20171122T210000
LOCATION:Tsang Shiu Tim Art Hall
SUMMARY:Cello & Piano Duo Recital by Yoon Soo Park & Cindy Ho
UID:25166
END:VEVENT
END:VCALENDAR