BEGIN:VCALENDAR
PRODID:-//HKUST Drupal Platform//EN
VERSION:2.0
BEGIN:VTIMEZONE
TZID:Asia/Hong_Kong
BEGIN:STANDARD
DTSTART:20071104T020000
TZOFFSETFROM:+0700
TZOFFSETTO:+0800
TZNAME:HKT
END:STANDARD
END:VTIMEZONE
BEGIN:VEVENT
DTSTAMP;TZID=Asia/Hong_Kong:20260425T185518
DTSTART;TZID=Asia/Hong_Kong:20171127T103000
DTEND;TZID=Asia/Hong_Kong:20171127T133000
LOCATION:Room 2304 (Lifts 17-18), 2/F Academic Building, HKUST
SUMMARY:MPhil in Tech Leader & Entrepre - Tri-modal End-to-End Personality Prediction and Application in a Virtual Therapist Platform
UID:25148
END:VEVENT
END:VCALENDAR