BEGIN:VCALENDAR
PRODID:-//HKUST Drupal Platform//EN
VERSION:2.0
BEGIN:VTIMEZONE
TZID:Asia/Hong_Kong
BEGIN:STANDARD
DTSTART:20071104T020000
TZOFFSETFROM:+0700
TZOFFSETTO:+0800
TZNAME:HKT
END:STANDARD
END:VTIMEZONE
BEGIN:VEVENT
DTSTAMP;TZID=Asia/Hong_Kong:20260425T185519
DTSTART;TZID=Asia/Hong_Kong:20171205T143000
DTEND;TZID=Asia/Hong_Kong:20171205T173000
LOCATION:Room 4504 (Lifts 25-26), 4/F Academic Building, HKUST
SUMMARY:MPhil in Life Science - Investigating the Role of PICK1 in Regulating Mutant SOD1 in Amyotrophic Lateral Sclerosis
UID:25113
END:VEVENT
END:VCALENDAR