BEGIN:VCALENDAR
PRODID:-//HKUST Drupal Platform//EN
VERSION:2.0
BEGIN:VTIMEZONE
TZID:Asia/Hong_Kong
BEGIN:STANDARD
DTSTART:20071104T020000
TZOFFSETFROM:+0700
TZOFFSETTO:+0800
TZNAME:HKT
END:STANDARD
END:VTIMEZONE
BEGIN:VEVENT
DTSTAMP;TZID=Asia/Hong_Kong:20260425T212618
DTSTART;TZID=Asia/Hong_Kong:20171208T100000
DTEND;TZID=Asia/Hong_Kong:20171208T120000
LOCATION:Room 5508  (Lifts 25 - 26) HKUST
SUMMARY:PhD in Environmental Engg - Design of a Catalytic Polymer Membrane Reactor for Ozone Treatment of Endocrine Disrupting Compounds in Water
UID:25100
END:VEVENT
END:VCALENDAR