BEGIN:VCALENDAR
PRODID:-//HKUST Drupal Platform//EN
VERSION:2.0
BEGIN:VTIMEZONE
TZID:Asia/Hong_Kong
BEGIN:STANDARD
DTSTART:20071104T020000
TZOFFSETFROM:+0700
TZOFFSETTO:+0800
TZNAME:HKT
END:STANDARD
END:VTIMEZONE
BEGIN:VEVENT
DTSTAMP;TZID=Asia/Hong_Kong:20260425T185511
DTSTART;TZID=Asia/Hong_Kong:20171211T093000
DTEND;TZID=Asia/Hong_Kong:20171211T103000
LOCATION:Room 4472 (Lifts 25-26) 4/F Academic Building
SUMMARY:PhD in Environmental Science, Policy and Management - Transformation of the Selected Pharmaceuticals and Personal Care Products with Ozonation, Chlorination and Photo-degradation
UID:25089
END:VEVENT
END:VCALENDAR