BEGIN:VCALENDAR
PRODID:-//HKUST Drupal Platform//EN
VERSION:2.0
BEGIN:VTIMEZONE
TZID:Asia/Hong_Kong
BEGIN:STANDARD
DTSTART:20071104T020000
TZOFFSETFROM:+0700
TZOFFSETTO:+0800
TZNAME:HKT
END:STANDARD
END:VTIMEZONE
BEGIN:VEVENT
DTSTAMP;TZID=Asia/Hong_Kong:20260425T185516
DTSTART;TZID=Asia/Hong_Kong:20171212T143000
DTEND;TZID=Asia/Hong_Kong:20171212T173000
LOCATION:Room 4472 (Lifts 25-26), 4/F Academic Building, HKUST
SUMMARY:PhD in Physics - Vapour-deposited Colloidal Glass and the Microscopic Friction
UID:25076
END:VEVENT
END:VCALENDAR