BEGIN:VCALENDAR
PRODID:-//HKUST Drupal Platform//EN
VERSION:2.0
BEGIN:VTIMEZONE
TZID:Asia/Hong_Kong
BEGIN:STANDARD
DTSTART:20071104T020000
TZOFFSETFROM:+0700
TZOFFSETTO:+0800
TZNAME:HKT
END:STANDARD
END:VTIMEZONE
BEGIN:VEVENT
DTSTAMP;TZID=Asia/Hong_Kong:20260425T185554
DTSTART;TZID=Asia/Hong_Kong:20171215T093000
DTEND;TZID=Asia/Hong_Kong:20171215T103000
LOCATION:Room 5506 (Lifts 25-26) 5/F Academic Building, HKUST
SUMMARY:PhD in Environmental Science, Policy and Management - Characterizing PM2.5 Exposure Concentration in Transport Microenvironments Using Portable Monitors
UID:25056
END:VEVENT
END:VCALENDAR