BEGIN:VCALENDAR
PRODID:-//HKUST Drupal Platform//EN
VERSION:2.0
BEGIN:VTIMEZONE
TZID:Asia/Hong_Kong
BEGIN:STANDARD
DTSTART:20071104T020000
TZOFFSETFROM:+0700
TZOFFSETTO:+0800
TZNAME:HKT
END:STANDARD
END:VTIMEZONE
BEGIN:VEVENT
DTSTAMP;TZID=Asia/Hong_Kong:20260425T224301
DTSTART;TZID=Asia/Hong_Kong:20171215T103000
DTEND;TZID=Asia/Hong_Kong:20171215T133000
LOCATION:Room 4582 (Lifts 29-30), 4/F Academic Building, HKUST
SUMMARY:PhD in Chem & Biomolecular Engg - Backside Carbon Gettering Approach for Layer Controlled CVD Growth of Graphene and Its Advanced Characterization
UID:25052
END:VEVENT
END:VCALENDAR