BEGIN:VCALENDAR
PRODID:-//HKUST Drupal Platform//EN
VERSION:2.0
BEGIN:VTIMEZONE
TZID:Asia/Hong_Kong
BEGIN:STANDARD
DTSTART:20071104T020000
TZOFFSETFROM:+0700
TZOFFSETTO:+0800
TZNAME:HKT
END:STANDARD
END:VTIMEZONE
BEGIN:VEVENT
DTSTAMP;TZID=Asia/Hong_Kong:20260426T071729
DTSTART;TZID=Asia/Hong_Kong:20180117T143000
DTEND;TZID=Asia/Hong_Kong:20180117T173000
LOCATION:Lecture Theater H, 1/F Academic Concourse, HKUST
SUMMARY:MPhil in Bioengineering - Investigating the Role of SORBS1 in Synaptogenesis
UID:24957
END:VEVENT
END:VCALENDAR