BEGIN:VCALENDAR
PRODID:-//HKUST Drupal Platform//EN
VERSION:2.0
BEGIN:VTIMEZONE
TZID:Asia/Hong_Kong
BEGIN:STANDARD
DTSTART:20071104T020000
TZOFFSETFROM:+0700
TZOFFSETTO:+0800
TZNAME:HKT
END:STANDARD
END:VTIMEZONE
BEGIN:VEVENT
DTSTAMP;TZID=Asia/Hong_Kong:20260426T095418
DTSTART;TZID=Asia/Hong_Kong:20180122T103000
DTEND;TZID=Asia/Hong_Kong:20180122T133000
LOCATION:Room 4589 (Lifts 29-30), 4/F Academic Building, HKUST
SUMMARY:MPhil in Chem & Biomolecular Engg - Synthesis of LiFePO4 cathode material by microwave solvothermal assisted method
UID:24944
END:VEVENT
END:VCALENDAR