BEGIN:VCALENDAR
PRODID:-//HKUST Drupal Platform//EN
VERSION:2.0
BEGIN:VTIMEZONE
TZID:Asia/Hong_Kong
BEGIN:STANDARD
DTSTART:20071104T020000
TZOFFSETFROM:+0700
TZOFFSETTO:+0800
TZNAME:HKT
END:STANDARD
END:VTIMEZONE
BEGIN:VEVENT
DTSTAMP;TZID=Asia/Hong_Kong:20260426T095418
DTSTART;TZID=Asia/Hong_Kong:20180122T140000
DTEND;TZID=Asia/Hong_Kong:20180122T170000
LOCATION:Room 4472 (Lifts 25-26), 4/F Academic Building, HKUST
SUMMARY:PhD in Envrl Sci, Policy & Mgmt - Preparation,Characterization, and Property of Hierarchical Porous Metal-Organic-framework Aerogels and Aerogel-like Monoliths
UID:24942
END:VEVENT
END:VCALENDAR