BEGIN:VCALENDAR
PRODID:-//HKUST Drupal Platform//EN
VERSION:2.0
BEGIN:VTIMEZONE
TZID:Asia/Hong_Kong
BEGIN:STANDARD
DTSTART:20071104T020000
TZOFFSETFROM:+0700
TZOFFSETTO:+0800
TZNAME:HKT
END:STANDARD
END:VTIMEZONE
BEGIN:VEVENT
DTSTAMP;TZID=Asia/Hong_Kong:20260426T001002
DTSTART;TZID=Asia/Hong_Kong:20180124T140000
DTEND;TZID=Asia/Hong_Kong:20180124T170000
LOCATION:Room 2463 (Lifts 25 & 26), 2/F Academic Building, HKUST
SUMMARY:PhD in Electronic and Computer Engineering - High-Dimensional Sparsity Methods in Machine Learning and Finance
UID:24921
END:VEVENT
END:VCALENDAR