BEGIN:VCALENDAR
PRODID:-//HKUST Drupal Platform//EN
VERSION:2.0
BEGIN:VTIMEZONE
TZID:Asia/Hong_Kong
BEGIN:STANDARD
DTSTART:20071104T020000
TZOFFSETFROM:+0700
TZOFFSETTO:+0800
TZNAME:HKT
END:STANDARD
END:VTIMEZONE
BEGIN:VEVENT
DTSTAMP;TZID=Asia/Hong_Kong:20260425T212614
DTSTART;TZID=Asia/Hong_Kong:20180326T163000
DTEND;TZID=Asia/Hong_Kong:20180326T193000
LOCATION:Room 2611 (lifts 31-32), Academic Building, HKUST
SUMMARY:PhD in Computer Science & Engg - Improving Semantic SMT for Low Resource Languages
UID:24755
END:VEVENT
END:VCALENDAR