BEGIN:VCALENDAR
PRODID:-//HKUST Drupal Platform//EN
VERSION:2.0
BEGIN:VTIMEZONE
TZID:Asia/Hong_Kong
BEGIN:STANDARD
DTSTART:20071104T020000
TZOFFSETFROM:+0700
TZOFFSETTO:+0800
TZNAME:HKT
END:STANDARD
END:VTIMEZONE
BEGIN:VEVENT
DTSTAMP;TZID=Asia/Hong_Kong:20260420T132907
DTSTART;TZID=Asia/Hong_Kong:20180827T100000
DTEND;TZID=Asia/Hong_Kong:20180827T130000
LOCATION:Room 5560 (Lifts 27-28), HKUST
SUMMARY:MPhil in Civil Engineering - Effects of GGBS on Cadmium Immobilization in Soil, Plant Cadmium Uptake, Plant Growth and Hydrological Responses of Soil
UID:24095
END:VEVENT
END:VCALENDAR