BEGIN:VCALENDAR
PRODID:-//HKUST Drupal Platform//EN
VERSION:2.0
BEGIN:VTIMEZONE
TZID:Asia/Hong_Kong
BEGIN:STANDARD
DTSTART:20071104T020000
TZOFFSETFROM:+0700
TZOFFSETTO:+0800
TZNAME:HKT
END:STANDARD
END:VTIMEZONE
BEGIN:VEVENT
DTSTAMP;TZID=Asia/Hong_Kong:20260420T163840
DTSTART;TZID=Asia/Hong_Kong:20180912T143000
DTEND;TZID=Asia/Hong_Kong:20180912T161500
LOCATION:Ping Yuan and Kinmay W Tang Gallery, Lee Shau Kee Library, HKUST   香港科技大學李兆基圖書館   唐炳源唐温金美展覽廳
SUMMARY:Exhibition Opening Ceremony and Guided Tour 開幕典禮及展覽導賞 - My Heart is Flying: Paintings by Chen Keng  我心飛揚: 陳鏗畫展
UID:24044
END:VEVENT
END:VCALENDAR