BEGIN:VCALENDAR
PRODID:-//HKUST Drupal Platform//EN
VERSION:2.0
BEGIN:VTIMEZONE
TZID:Asia/Hong_Kong
BEGIN:STANDARD
DTSTART:20071104T020000
TZOFFSETFROM:+0700
TZOFFSETTO:+0800
TZNAME:HKT
END:STANDARD
END:VTIMEZONE
BEGIN:VEVENT
DTSTAMP;TZID=Asia/Hong_Kong:20260420T153655
DTSTART;TZID=Asia/Hong_Kong:20180920T150000
DTEND;TZID=Asia/Hong_Kong:20180920T170000
LOCATION:Multi-Function Room, LG4, Lee Shau Kee Library, HKUST   香港科技大學李兆基圖書館  多功能室(LG4)  李兆基圖書館地下四層多功能室
SUMMARY:Workshop on the Development of Western Painting  西洋畫之興工作坊 - My Heart is Flying: Paintings by Chen Keng  我心飛揚: 陳鏗畫展
UID:24023
END:VEVENT
END:VCALENDAR