BEGIN:VCALENDAR
PRODID:-//HKUST Drupal Platform//EN
VERSION:2.0
BEGIN:VTIMEZONE
TZID:Asia/Hong_Kong
BEGIN:STANDARD
DTSTART:20071104T020000
TZOFFSETFROM:+0700
TZOFFSETTO:+0800
TZNAME:HKT
END:STANDARD
END:VTIMEZONE
BEGIN:VEVENT
DTSTAMP;TZID=Asia/Hong_Kong:20260420T163801
DTSTART;TZID=Asia/Hong_Kong:20181108T123000
DTEND;TZID=Asia/Hong_Kong:20181108T140000
LOCATION:曾肇添展藝廳
SUMMARY:【快雪時晴】系列文學講座活動 - 不安與永安—談偏安文學
UID:23887
END:VEVENT
END:VCALENDAR