BEGIN:VCALENDAR
PRODID:-//HKUST Drupal Platform//EN
VERSION:2.0
BEGIN:VTIMEZONE
TZID:Asia/Hong_Kong
BEGIN:STANDARD
DTSTART:20071104T020000
TZOFFSETFROM:+0700
TZOFFSETTO:+0800
TZNAME:HKT
END:STANDARD
END:VTIMEZONE
BEGIN:VEVENT
DTSTAMP;TZID=Asia/Hong_Kong:20260420T232823
DTSTART;TZID=Asia/Hong_Kong:20190320T090000
DTEND;TZID=Asia/Hong_Kong:20190320T180000
LOCATION:HKUST Jockey Club Atrium
SUMMARY:Planet or Plastic Photo Exhibition
UID:23453
END:VEVENT
BEGIN:VEVENT
DTSTAMP;TZID=Asia/Hong_Kong:20260420T232823
DTSTART;TZID=Asia/Hong_Kong:20190321T090000
DTEND;TZID=Asia/Hong_Kong:20190321T180000
LOCATION:HKUST Jockey Club Atrium
SUMMARY:Planet or Plastic Photo Exhibition
UID:23453
END:VEVENT
BEGIN:VEVENT
DTSTAMP;TZID=Asia/Hong_Kong:20260420T232823
DTSTART;TZID=Asia/Hong_Kong:20190322T090000
DTEND;TZID=Asia/Hong_Kong:20190322T180000
LOCATION:HKUST Jockey Club Atrium
SUMMARY:Planet or Plastic Photo Exhibition
UID:23453
END:VEVENT
BEGIN:VEVENT
DTSTAMP;TZID=Asia/Hong_Kong:20260420T232823
DTSTART;TZID=Asia/Hong_Kong:20190323T090000
DTEND;TZID=Asia/Hong_Kong:20190323T180000
LOCATION:HKUST Jockey Club Atrium
SUMMARY:Planet or Plastic Photo Exhibition
UID:23453
END:VEVENT
BEGIN:VEVENT
DTSTAMP;TZID=Asia/Hong_Kong:20260420T232823
DTSTART;TZID=Asia/Hong_Kong:20190324T090000
DTEND;TZID=Asia/Hong_Kong:20190324T180000
LOCATION:HKUST Jockey Club Atrium
SUMMARY:Planet or Plastic Photo Exhibition
UID:23453
END:VEVENT
BEGIN:VEVENT
DTSTAMP;TZID=Asia/Hong_Kong:20260420T232823
DTSTART;TZID=Asia/Hong_Kong:20190325T090000
DTEND;TZID=Asia/Hong_Kong:20190325T180000
LOCATION:HKUST Jockey Club Atrium
SUMMARY:Planet or Plastic Photo Exhibition
UID:23453
END:VEVENT
END:VCALENDAR