BEGIN:VCALENDAR
PRODID:-//HKUST Drupal Platform//EN
VERSION:2.0
BEGIN:VTIMEZONE
TZID:Asia/Hong_Kong
BEGIN:STANDARD
DTSTART:20071104T020000
TZOFFSETFROM:+0700
TZOFFSETTO:+0800
TZNAME:HKT
END:STANDARD
END:VTIMEZONE
BEGIN:VEVENT
DTSTAMP;TZID=Asia/Hong_Kong:20260420T142615
DTSTART;TZID=Asia/Hong_Kong:20190402T000000
DTEND;TZID=Asia/Hong_Kong:20190407T235900
LOCATION:Hong Kong Jockey Club Atrium
SUMMARY:Water for Free Exhibition
UID:23407
END:VEVENT
END:VCALENDAR