BEGIN:VCALENDAR
PRODID:-//HKUST Drupal Platform//EN
VERSION:2.0
BEGIN:VTIMEZONE
TZID:Asia/Hong_Kong
BEGIN:STANDARD
DTSTART:20071104T020000
TZOFFSETFROM:+0700
TZOFFSETTO:+0800
TZNAME:HKT
END:STANDARD
END:VTIMEZONE
BEGIN:VEVENT
DTSTAMP;TZID=Asia/Hong_Kong:20260420T142616
DTSTART;TZID=Asia/Hong_Kong:20190402T110000
DTEND;TZID=Asia/Hong_Kong:20190402T160000
LOCATION:Academic Concourse outside LTC
SUMMARY:Solar Mobile Cafe - Making Zero Impact Fashionable
UID:23406
END:VEVENT
BEGIN:VEVENT
DTSTAMP;TZID=Asia/Hong_Kong:20260420T142616
DTSTART;TZID=Asia/Hong_Kong:20190403T110000
DTEND;TZID=Asia/Hong_Kong:20190403T160000
LOCATION:Academic Concourse outside LTC
SUMMARY:Solar Mobile Cafe - Making Zero Impact Fashionable
UID:23406
END:VEVENT
END:VCALENDAR