BEGIN:VCALENDAR
PRODID:-//HKUST Drupal Platform//EN
VERSION:2.0
BEGIN:VTIMEZONE
TZID:Asia/Hong_Kong
BEGIN:STANDARD
DTSTART:20071104T020000
TZOFFSETFROM:+0700
TZOFFSETTO:+0800
TZNAME:HKT
END:STANDARD
END:VTIMEZONE
BEGIN:VEVENT
DTSTAMP;TZID=Asia/Hong_Kong:20260420T165422
DTSTART;TZID=Asia/Hong_Kong:20190403T150000
DTEND;TZID=Asia/Hong_Kong:20190403T170000
LOCATION:Multi-function Room (LG4), Lee Shau Kee Library
SUMMARY:HKUST Arts Festival 2019 - Art and Crisis - Plastic Fashion Workshops by Manuela Catania
UID:23401
END:VEVENT
BEGIN:VEVENT
DTSTAMP;TZID=Asia/Hong_Kong:20260420T165422
DTSTART;TZID=Asia/Hong_Kong:20190410T150000
DTEND;TZID=Asia/Hong_Kong:20190410T170000
LOCATION:Multi-function Room (LG4), Lee Shau Kee Library
SUMMARY:HKUST Arts Festival 2019 - Art and Crisis - Plastic Fashion Workshops by Manuela Catania
UID:23401
END:VEVENT
BEGIN:VEVENT
DTSTAMP;TZID=Asia/Hong_Kong:20260420T165422
DTSTART;TZID=Asia/Hong_Kong:20190417T150000
DTEND;TZID=Asia/Hong_Kong:20190417T170000
LOCATION:Multi-function Room (LG4), Lee Shau Kee Library
SUMMARY:HKUST Arts Festival 2019 - Art and Crisis - Plastic Fashion Workshops by Manuela Catania
UID:23401
END:VEVENT
END:VCALENDAR