BEGIN:VCALENDAR
PRODID:-//HKUST Drupal Platform//EN
VERSION:2.0
BEGIN:VTIMEZONE
TZID:Asia/Hong_Kong
BEGIN:STANDARD
DTSTART:20071104T020000
TZOFFSETFROM:+0700
TZOFFSETTO:+0800
TZNAME:HKT
END:STANDARD
END:VTIMEZONE
BEGIN:VEVENT
DTSTAMP;TZID=Asia/Hong_Kong:20260420T153655
DTSTART;TZID=Asia/Hong_Kong:20190404T130000
DTEND;TZID=Asia/Hong_Kong:20190404T140000
LOCATION:SCI-HOME
SUMMARY:HKUST Arts Festival 2019 - Art and Crisis - Screening and Sharing: Yauking
UID:23395
END:VEVENT
END:VCALENDAR