BEGIN:VCALENDAR
PRODID:-//HKUST Drupal Platform//EN
VERSION:2.0
BEGIN:VTIMEZONE
TZID:Asia/Hong_Kong
BEGIN:STANDARD
DTSTART:20071104T020000
TZOFFSETFROM:+0700
TZOFFSETTO:+0800
TZNAME:HKT
END:STANDARD
END:VTIMEZONE
BEGIN:VEVENT
DTSTAMP;TZID=Asia/Hong_Kong:20260420T163800
DTSTART;TZID=Asia/Hong_Kong:20190613T100000
DTEND;TZID=Asia/Hong_Kong:20190613T110000
LOCATION:Room 2504, 2/F (Lifts 25/26), Academic Building, HKUST
SUMMARY:CHEM - PhD Student Seminar - Hydrogen-Bonded Supramolecular Polymers with Self-Healing Ability
UID:23153
END:VEVENT
END:VCALENDAR