BEGIN:VCALENDAR
PRODID:-//HKUST Drupal Platform//EN
VERSION:2.0
BEGIN:VTIMEZONE
TZID:Asia/Hong_Kong
BEGIN:STANDARD
DTSTART:20071104T020000
TZOFFSETFROM:+0700
TZOFFSETTO:+0800
TZNAME:HKT
END:STANDARD
END:VTIMEZONE
BEGIN:VEVENT
DTSTAMP;TZID=Asia/Hong_Kong:20260420T181321
DTSTART;TZID=Asia/Hong_Kong:20190620T153000
DTEND;TZID=Asia/Hong_Kong:20190620T163000
LOCATION:Room 2463, 2/F (Lifts 25/26), Academic Building, HKUST
SUMMARY:CHEM - PhD Student Seminar - Covalent Organic Frameworks for Hydrogen Evolution Reactions
UID:23121
END:VEVENT
END:VCALENDAR