BEGIN:VCALENDAR
PRODID:-//HKUST Drupal Platform//EN
VERSION:2.0
BEGIN:VTIMEZONE
TZID:Asia/Hong_Kong
BEGIN:STANDARD
DTSTART:20071104T020000
TZOFFSETFROM:+0700
TZOFFSETTO:+0800
TZNAME:HKT
END:STANDARD
END:VTIMEZONE
BEGIN:VEVENT
DTSTAMP;TZID=Asia/Hong_Kong:20260420T181317
DTSTART;TZID=Asia/Hong_Kong:20190621T163000
DTEND;TZID=Asia/Hong_Kong:20190621T180000
LOCATION:Room 4504, 4/F (Lifts 25/26), Academic Building, HKUST
SUMMARY:CHEM Seminar - Developing New Catalytic Tools for the Synthesis of Natural Products and Derivatives
UID:23115
END:VEVENT
END:VCALENDAR