BEGIN:VCALENDAR
PRODID:-//HKUST Drupal Platform//EN
VERSION:2.0
BEGIN:VTIMEZONE
TZID:Asia/Hong_Kong
BEGIN:STANDARD
DTSTART:20071104T020000
TZOFFSETFROM:+0700
TZOFFSETTO:+0800
TZNAME:HKT
END:STANDARD
END:VTIMEZONE
BEGIN:VEVENT
DTSTAMP;TZID=Asia/Hong_Kong:20260420T181319
DTSTART;TZID=Asia/Hong_Kong:20190625T163000
DTEND;TZID=Asia/Hong_Kong:20190625T180000
LOCATION:Cheung On Tak Lecture Theater (LT-E)
SUMMARY:IAS / SSCI Joint Lecture - Proton Transfer Mechanisms and Developing Ring Formation Reactions
UID:23072
END:VEVENT
END:VCALENDAR