BEGIN:VCALENDAR
PRODID:-//HKUST Drupal Platform//EN
VERSION:2.0
BEGIN:VTIMEZONE
TZID:Asia/Hong_Kong
BEGIN:STANDARD
DTSTART:20071104T020000
TZOFFSETFROM:+0700
TZOFFSETTO:+0800
TZNAME:HKT
END:STANDARD
END:VTIMEZONE
BEGIN:VEVENT
DTSTAMP;TZID=Asia/Hong_Kong:20260420T064226
DTSTART;TZID=Asia/Hong_Kong:20190806T140000
DTEND;TZID=Asia/Hong_Kong:20190806T170000
LOCATION:Room 3574 (Lifts 27-28), 3/F Academic Building, HKUST
SUMMARY:PhD in Civil Engineering - Managing Mass Transit Peak-hour Congestion with Fare-reward Schemes
UID:22864
END:VEVENT
END:VCALENDAR