BEGIN:VCALENDAR
PRODID:-//HKUST Drupal Platform//EN
VERSION:2.0
BEGIN:VTIMEZONE
TZID:Asia/Hong_Kong
BEGIN:STANDARD
DTSTART:20071104T020000
TZOFFSETFROM:+0700
TZOFFSETTO:+0800
TZNAME:HKT
END:STANDARD
END:VTIMEZONE
BEGIN:VEVENT
DTSTAMP;TZID=Asia/Hong_Kong:20260420T132909
DTSTART;TZID=Asia/Hong_Kong:20190705T090000
DTEND;TZID=Asia/Hong_Kong:20190705T120000
LOCATION:Room 3584A (Lifts 27-28), HKUST
SUMMARY:MPhil in Civil Engineering - The Zonal Oscillation and the Driving Mechanisms of the Extreme Western North Pacific Subtropical High and Its Impacts on East Asia Summer Precipitation
UID:22792
END:VEVENT
END:VCALENDAR