BEGIN:VCALENDAR
PRODID:-//HKUST Drupal Platform//EN
VERSION:2.0
BEGIN:VTIMEZONE
TZID:Asia/Hong_Kong
BEGIN:STANDARD
DTSTART:20071104T020000
TZOFFSETFROM:+0700
TZOFFSETTO:+0800
TZNAME:HKT
END:STANDARD
END:VTIMEZONE
BEGIN:VEVENT
DTSTAMP;TZID=Asia/Hong_Kong:20260420T153655
DTSTART;TZID=Asia/Hong_Kong:20190809T140000
DTEND;TZID=Asia/Hong_Kong:20190809T150000
LOCATION:IAS2042, 2/F, Lo Ka Chung Building, Lee Shau Kee Campus
SUMMARY:CIVL Departmental Seminar - Monsoon Intraseasonal Oscillations in Equatorial Atmosphere and Oceans
UID:22688
END:VEVENT
END:VCALENDAR