BEGIN:VCALENDAR
PRODID:-//HKUST Drupal Platform//EN
VERSION:2.0
BEGIN:VTIMEZONE
TZID:Asia/Hong_Kong
BEGIN:STANDARD
DTSTART:20071104T020000
TZOFFSETFROM:+0700
TZOFFSETTO:+0800
TZNAME:HKT
END:STANDARD
END:VTIMEZONE
BEGIN:VEVENT
DTSTAMP;TZID=Asia/Hong_Kong:20260420T193950
DTSTART;TZID=Asia/Hong_Kong:20190809T103000
DTEND;TZID=Asia/Hong_Kong:20190809T120000
LOCATION:Room 6602, 6/F (Lifts 31/32), Academic Building, HKUST
SUMMARY:CHEM Seminar - Chemical Biology of Protein Aggregation in the Stressed Proteome
UID:22678
END:VEVENT
END:VCALENDAR