BEGIN:VCALENDAR
PRODID:-//HKUST Drupal Platform//EN
VERSION:2.0
BEGIN:VTIMEZONE
TZID:Asia/Hong_Kong
BEGIN:STANDARD
DTSTART:20071104T020000
TZOFFSETFROM:+0700
TZOFFSETTO:+0800
TZNAME:HKT
END:STANDARD
END:VTIMEZONE
BEGIN:VEVENT
DTSTAMP;TZID=Asia/Hong_Kong:20260420T153655
DTSTART;TZID=Asia/Hong_Kong:20190812T100000
DTEND;TZID=Asia/Hong_Kong:20190812T130000
LOCATION:Room 3574 (Lifts 27-28), 3/F Academic Building, HKUST
SUMMARY:PhD in Civil Engineering - Evaluation on an Integrated Food Waste Treatment Strategy for Hong Kong with Green House Gas Reduction and Energy Recovery Potentials
UID:22626
END:VEVENT
END:VCALENDAR