BEGIN:VCALENDAR
PRODID:-//HKUST Drupal Platform//EN
VERSION:2.0
BEGIN:VTIMEZONE
TZID:Asia/Hong_Kong
BEGIN:STANDARD
DTSTART:20071104T020000
TZOFFSETFROM:+0700
TZOFFSETTO:+0800
TZNAME:HKT
END:STANDARD
END:VTIMEZONE
BEGIN:VEVENT
DTSTAMP;TZID=Asia/Hong_Kong:20260420T163758
DTSTART;TZID=Asia/Hong_Kong:20190909T160000
DTEND;TZID=Asia/Hong_Kong:20190909T180000
LOCATION:運動室 LG1027
SUMMARY:粵劇教育拓展項目2019 - 跟名伶學粵劇工作坊 - 第一班（逢星期一　下午 4:00 - 6:00）
UID:22503
END:VEVENT
BEGIN:VEVENT
DTSTAMP;TZID=Asia/Hong_Kong:20260420T163758
DTSTART;TZID=Asia/Hong_Kong:20190910T160000
DTEND;TZID=Asia/Hong_Kong:20190910T180000
LOCATION:運動室 LG1027
SUMMARY:粵劇教育拓展項目2019 - 跟名伶學粵劇工作坊 - 第一班（逢星期一　下午 4:00 - 6:00）
UID:22503
END:VEVENT
BEGIN:VEVENT
DTSTAMP;TZID=Asia/Hong_Kong:20260420T163758
DTSTART;TZID=Asia/Hong_Kong:20190911T160000
DTEND;TZID=Asia/Hong_Kong:20190911T180000
LOCATION:運動室 LG1027
SUMMARY:粵劇教育拓展項目2019 - 跟名伶學粵劇工作坊 - 第一班（逢星期一　下午 4:00 - 6:00）
UID:22503
END:VEVENT
BEGIN:VEVENT
DTSTAMP;TZID=Asia/Hong_Kong:20260420T163758
DTSTART;TZID=Asia/Hong_Kong:20190912T160000
DTEND;TZID=Asia/Hong_Kong:20190912T180000
LOCATION:運動室 LG1027
SUMMARY:粵劇教育拓展項目2019 - 跟名伶學粵劇工作坊 - 第一班（逢星期一　下午 4:00 - 6:00）
UID:22503
END:VEVENT
BEGIN:VEVENT
DTSTAMP;TZID=Asia/Hong_Kong:20260420T163758
DTSTART;TZID=Asia/Hong_Kong:20190913T160000
DTEND;TZID=Asia/Hong_Kong:20190913T180000
LOCATION:運動室 LG1027
SUMMARY:粵劇教育拓展項目2019 - 跟名伶學粵劇工作坊 - 第一班（逢星期一　下午 4:00 - 6:00）
UID:22503
END:VEVENT
BEGIN:VEVENT
DTSTAMP;TZID=Asia/Hong_Kong:20260420T163758
DTSTART;TZID=Asia/Hong_Kong:20190914T160000
DTEND;TZID=Asia/Hong_Kong:20190914T180000
LOCATION:運動室 LG1027
SUMMARY:粵劇教育拓展項目2019 - 跟名伶學粵劇工作坊 - 第一班（逢星期一　下午 4:00 - 6:00）
UID:22503
END:VEVENT
BEGIN:VEVENT
DTSTAMP;TZID=Asia/Hong_Kong:20260420T163758
DTSTART;TZID=Asia/Hong_Kong:20190915T160000
DTEND;TZID=Asia/Hong_Kong:20190915T180000
LOCATION:運動室 LG1027
SUMMARY:粵劇教育拓展項目2019 - 跟名伶學粵劇工作坊 - 第一班（逢星期一　下午 4:00 - 6:00）
UID:22503
END:VEVENT
BEGIN:VEVENT
DTSTAMP;TZID=Asia/Hong_Kong:20260420T163758
DTSTART;TZID=Asia/Hong_Kong:20190916T160000
DTEND;TZID=Asia/Hong_Kong:20190916T180000
LOCATION:運動室 LG1027
SUMMARY:粵劇教育拓展項目2019 - 跟名伶學粵劇工作坊 - 第一班（逢星期一　下午 4:00 - 6:00）
UID:22503
END:VEVENT
BEGIN:VEVENT
DTSTAMP;TZID=Asia/Hong_Kong:20260420T163758
DTSTART;TZID=Asia/Hong_Kong:20190917T160000
DTEND;TZID=Asia/Hong_Kong:20190917T180000
LOCATION:運動室 LG1027
SUMMARY:粵劇教育拓展項目2019 - 跟名伶學粵劇工作坊 - 第一班（逢星期一　下午 4:00 - 6:00）
UID:22503
END:VEVENT
BEGIN:VEVENT
DTSTAMP;TZID=Asia/Hong_Kong:20260420T163758
DTSTART;TZID=Asia/Hong_Kong:20190918T160000
DTEND;TZID=Asia/Hong_Kong:20190918T180000
LOCATION:運動室 LG1027
SUMMARY:粵劇教育拓展項目2019 - 跟名伶學粵劇工作坊 - 第一班（逢星期一　下午 4:00 - 6:00）
UID:22503
END:VEVENT
BEGIN:VEVENT
DTSTAMP;TZID=Asia/Hong_Kong:20260420T163758
DTSTART;TZID=Asia/Hong_Kong:20190919T160000
DTEND;TZID=Asia/Hong_Kong:20190919T180000
LOCATION:運動室 LG1027
SUMMARY:粵劇教育拓展項目2019 - 跟名伶學粵劇工作坊 - 第一班（逢星期一　下午 4:00 - 6:00）
UID:22503
END:VEVENT
BEGIN:VEVENT
DTSTAMP;TZID=Asia/Hong_Kong:20260420T163758
DTSTART;TZID=Asia/Hong_Kong:20190920T160000
DTEND;TZID=Asia/Hong_Kong:20190920T180000
LOCATION:運動室 LG1027
SUMMARY:粵劇教育拓展項目2019 - 跟名伶學粵劇工作坊 - 第一班（逢星期一　下午 4:00 - 6:00）
UID:22503
END:VEVENT
BEGIN:VEVENT
DTSTAMP;TZID=Asia/Hong_Kong:20260420T163758
DTSTART;TZID=Asia/Hong_Kong:20190921T160000
DTEND;TZID=Asia/Hong_Kong:20190921T180000
LOCATION:運動室 LG1027
SUMMARY:粵劇教育拓展項目2019 - 跟名伶學粵劇工作坊 - 第一班（逢星期一　下午 4:00 - 6:00）
UID:22503
END:VEVENT
BEGIN:VEVENT
DTSTAMP;TZID=Asia/Hong_Kong:20260420T163758
DTSTART;TZID=Asia/Hong_Kong:20190922T160000
DTEND;TZID=Asia/Hong_Kong:20190922T180000
LOCATION:運動室 LG1027
SUMMARY:粵劇教育拓展項目2019 - 跟名伶學粵劇工作坊 - 第一班（逢星期一　下午 4:00 - 6:00）
UID:22503
END:VEVENT
BEGIN:VEVENT
DTSTAMP;TZID=Asia/Hong_Kong:20260420T163758
DTSTART;TZID=Asia/Hong_Kong:20190923T160000
DTEND;TZID=Asia/Hong_Kong:20190923T180000
LOCATION:運動室 LG1027
SUMMARY:粵劇教育拓展項目2019 - 跟名伶學粵劇工作坊 - 第一班（逢星期一　下午 4:00 - 6:00）
UID:22503
END:VEVENT
BEGIN:VEVENT
DTSTAMP;TZID=Asia/Hong_Kong:20260420T163758
DTSTART;TZID=Asia/Hong_Kong:20190924T160000
DTEND;TZID=Asia/Hong_Kong:20190924T180000
LOCATION:運動室 LG1027
SUMMARY:粵劇教育拓展項目2019 - 跟名伶學粵劇工作坊 - 第一班（逢星期一　下午 4:00 - 6:00）
UID:22503
END:VEVENT
BEGIN:VEVENT
DTSTAMP;TZID=Asia/Hong_Kong:20260420T163758
DTSTART;TZID=Asia/Hong_Kong:20190925T160000
DTEND;TZID=Asia/Hong_Kong:20190925T180000
LOCATION:運動室 LG1027
SUMMARY:粵劇教育拓展項目2019 - 跟名伶學粵劇工作坊 - 第一班（逢星期一　下午 4:00 - 6:00）
UID:22503
END:VEVENT
BEGIN:VEVENT
DTSTAMP;TZID=Asia/Hong_Kong:20260420T163758
DTSTART;TZID=Asia/Hong_Kong:20190926T160000
DTEND;TZID=Asia/Hong_Kong:20190926T180000
LOCATION:運動室 LG1027
SUMMARY:粵劇教育拓展項目2019 - 跟名伶學粵劇工作坊 - 第一班（逢星期一　下午 4:00 - 6:00）
UID:22503
END:VEVENT
BEGIN:VEVENT
DTSTAMP;TZID=Asia/Hong_Kong:20260420T163758
DTSTART;TZID=Asia/Hong_Kong:20190927T160000
DTEND;TZID=Asia/Hong_Kong:20190927T180000
LOCATION:運動室 LG1027
SUMMARY:粵劇教育拓展項目2019 - 跟名伶學粵劇工作坊 - 第一班（逢星期一　下午 4:00 - 6:00）
UID:22503
END:VEVENT
BEGIN:VEVENT
DTSTAMP;TZID=Asia/Hong_Kong:20260420T163758
DTSTART;TZID=Asia/Hong_Kong:20190928T160000
DTEND;TZID=Asia/Hong_Kong:20190928T180000
LOCATION:運動室 LG1027
SUMMARY:粵劇教育拓展項目2019 - 跟名伶學粵劇工作坊 - 第一班（逢星期一　下午 4:00 - 6:00）
UID:22503
END:VEVENT
BEGIN:VEVENT
DTSTAMP;TZID=Asia/Hong_Kong:20260420T163758
DTSTART;TZID=Asia/Hong_Kong:20190929T160000
DTEND;TZID=Asia/Hong_Kong:20190929T180000
LOCATION:運動室 LG1027
SUMMARY:粵劇教育拓展項目2019 - 跟名伶學粵劇工作坊 - 第一班（逢星期一　下午 4:00 - 6:00）
UID:22503
END:VEVENT
BEGIN:VEVENT
DTSTAMP;TZID=Asia/Hong_Kong:20260420T163758
DTSTART;TZID=Asia/Hong_Kong:20190930T160000
DTEND;TZID=Asia/Hong_Kong:20190930T180000
LOCATION:運動室 LG1027
SUMMARY:粵劇教育拓展項目2019 - 跟名伶學粵劇工作坊 - 第一班（逢星期一　下午 4:00 - 6:00）
UID:22503
END:VEVENT
BEGIN:VEVENT
DTSTAMP;TZID=Asia/Hong_Kong:20260420T163758
DTSTART;TZID=Asia/Hong_Kong:20191001T160000
DTEND;TZID=Asia/Hong_Kong:20191001T180000
LOCATION:運動室 LG1027
SUMMARY:粵劇教育拓展項目2019 - 跟名伶學粵劇工作坊 - 第一班（逢星期一　下午 4:00 - 6:00）
UID:22503
END:VEVENT
BEGIN:VEVENT
DTSTAMP;TZID=Asia/Hong_Kong:20260420T163758
DTSTART;TZID=Asia/Hong_Kong:20191002T160000
DTEND;TZID=Asia/Hong_Kong:20191002T180000
LOCATION:運動室 LG1027
SUMMARY:粵劇教育拓展項目2019 - 跟名伶學粵劇工作坊 - 第一班（逢星期一　下午 4:00 - 6:00）
UID:22503
END:VEVENT
BEGIN:VEVENT
DTSTAMP;TZID=Asia/Hong_Kong:20260420T163758
DTSTART;TZID=Asia/Hong_Kong:20191003T160000
DTEND;TZID=Asia/Hong_Kong:20191003T180000
LOCATION:運動室 LG1027
SUMMARY:粵劇教育拓展項目2019 - 跟名伶學粵劇工作坊 - 第一班（逢星期一　下午 4:00 - 6:00）
UID:22503
END:VEVENT
BEGIN:VEVENT
DTSTAMP;TZID=Asia/Hong_Kong:20260420T163758
DTSTART;TZID=Asia/Hong_Kong:20191004T160000
DTEND;TZID=Asia/Hong_Kong:20191004T180000
LOCATION:運動室 LG1027
SUMMARY:粵劇教育拓展項目2019 - 跟名伶學粵劇工作坊 - 第一班（逢星期一　下午 4:00 - 6:00）
UID:22503
END:VEVENT
BEGIN:VEVENT
DTSTAMP;TZID=Asia/Hong_Kong:20260420T163758
DTSTART;TZID=Asia/Hong_Kong:20191005T160000
DTEND;TZID=Asia/Hong_Kong:20191005T180000
LOCATION:運動室 LG1027
SUMMARY:粵劇教育拓展項目2019 - 跟名伶學粵劇工作坊 - 第一班（逢星期一　下午 4:00 - 6:00）
UID:22503
END:VEVENT
BEGIN:VEVENT
DTSTAMP;TZID=Asia/Hong_Kong:20260420T163758
DTSTART;TZID=Asia/Hong_Kong:20191006T160000
DTEND;TZID=Asia/Hong_Kong:20191006T180000
LOCATION:運動室 LG1027
SUMMARY:粵劇教育拓展項目2019 - 跟名伶學粵劇工作坊 - 第一班（逢星期一　下午 4:00 - 6:00）
UID:22503
END:VEVENT
BEGIN:VEVENT
DTSTAMP;TZID=Asia/Hong_Kong:20260420T163758
DTSTART;TZID=Asia/Hong_Kong:20191007T160000
DTEND;TZID=Asia/Hong_Kong:20191007T180000
LOCATION:運動室 LG1027
SUMMARY:粵劇教育拓展項目2019 - 跟名伶學粵劇工作坊 - 第一班（逢星期一　下午 4:00 - 6:00）
UID:22503
END:VEVENT
BEGIN:VEVENT
DTSTAMP;TZID=Asia/Hong_Kong:20260420T163758
DTSTART;TZID=Asia/Hong_Kong:20191008T160000
DTEND;TZID=Asia/Hong_Kong:20191008T180000
LOCATION:運動室 LG1027
SUMMARY:粵劇教育拓展項目2019 - 跟名伶學粵劇工作坊 - 第一班（逢星期一　下午 4:00 - 6:00）
UID:22503
END:VEVENT
BEGIN:VEVENT
DTSTAMP;TZID=Asia/Hong_Kong:20260420T163758
DTSTART;TZID=Asia/Hong_Kong:20191009T160000
DTEND;TZID=Asia/Hong_Kong:20191009T180000
LOCATION:運動室 LG1027
SUMMARY:粵劇教育拓展項目2019 - 跟名伶學粵劇工作坊 - 第一班（逢星期一　下午 4:00 - 6:00）
UID:22503
END:VEVENT
BEGIN:VEVENT
DTSTAMP;TZID=Asia/Hong_Kong:20260420T163758
DTSTART;TZID=Asia/Hong_Kong:20191010T160000
DTEND;TZID=Asia/Hong_Kong:20191010T180000
LOCATION:運動室 LG1027
SUMMARY:粵劇教育拓展項目2019 - 跟名伶學粵劇工作坊 - 第一班（逢星期一　下午 4:00 - 6:00）
UID:22503
END:VEVENT
BEGIN:VEVENT
DTSTAMP;TZID=Asia/Hong_Kong:20260420T163758
DTSTART;TZID=Asia/Hong_Kong:20191011T160000
DTEND;TZID=Asia/Hong_Kong:20191011T180000
LOCATION:運動室 LG1027
SUMMARY:粵劇教育拓展項目2019 - 跟名伶學粵劇工作坊 - 第一班（逢星期一　下午 4:00 - 6:00）
UID:22503
END:VEVENT
BEGIN:VEVENT
DTSTAMP;TZID=Asia/Hong_Kong:20260420T163758
DTSTART;TZID=Asia/Hong_Kong:20191012T160000
DTEND;TZID=Asia/Hong_Kong:20191012T180000
LOCATION:運動室 LG1027
SUMMARY:粵劇教育拓展項目2019 - 跟名伶學粵劇工作坊 - 第一班（逢星期一　下午 4:00 - 6:00）
UID:22503
END:VEVENT
BEGIN:VEVENT
DTSTAMP;TZID=Asia/Hong_Kong:20260420T163758
DTSTART;TZID=Asia/Hong_Kong:20191013T160000
DTEND;TZID=Asia/Hong_Kong:20191013T180000
LOCATION:運動室 LG1027
SUMMARY:粵劇教育拓展項目2019 - 跟名伶學粵劇工作坊 - 第一班（逢星期一　下午 4:00 - 6:00）
UID:22503
END:VEVENT
BEGIN:VEVENT
DTSTAMP;TZID=Asia/Hong_Kong:20260420T163758
DTSTART;TZID=Asia/Hong_Kong:20191014T160000
DTEND;TZID=Asia/Hong_Kong:20191014T180000
LOCATION:運動室 LG1027
SUMMARY:粵劇教育拓展項目2019 - 跟名伶學粵劇工作坊 - 第一班（逢星期一　下午 4:00 - 6:00）
UID:22503
END:VEVENT
BEGIN:VEVENT
DTSTAMP;TZID=Asia/Hong_Kong:20260420T163758
DTSTART;TZID=Asia/Hong_Kong:20191015T160000
DTEND;TZID=Asia/Hong_Kong:20191015T180000
LOCATION:運動室 LG1027
SUMMARY:粵劇教育拓展項目2019 - 跟名伶學粵劇工作坊 - 第一班（逢星期一　下午 4:00 - 6:00）
UID:22503
END:VEVENT
BEGIN:VEVENT
DTSTAMP;TZID=Asia/Hong_Kong:20260420T163758
DTSTART;TZID=Asia/Hong_Kong:20191016T160000
DTEND;TZID=Asia/Hong_Kong:20191016T180000
LOCATION:運動室 LG1027
SUMMARY:粵劇教育拓展項目2019 - 跟名伶學粵劇工作坊 - 第一班（逢星期一　下午 4:00 - 6:00）
UID:22503
END:VEVENT
BEGIN:VEVENT
DTSTAMP;TZID=Asia/Hong_Kong:20260420T163758
DTSTART;TZID=Asia/Hong_Kong:20191017T160000
DTEND;TZID=Asia/Hong_Kong:20191017T180000
LOCATION:運動室 LG1027
SUMMARY:粵劇教育拓展項目2019 - 跟名伶學粵劇工作坊 - 第一班（逢星期一　下午 4:00 - 6:00）
UID:22503
END:VEVENT
BEGIN:VEVENT
DTSTAMP;TZID=Asia/Hong_Kong:20260420T163758
DTSTART;TZID=Asia/Hong_Kong:20191018T160000
DTEND;TZID=Asia/Hong_Kong:20191018T180000
LOCATION:運動室 LG1027
SUMMARY:粵劇教育拓展項目2019 - 跟名伶學粵劇工作坊 - 第一班（逢星期一　下午 4:00 - 6:00）
UID:22503
END:VEVENT
BEGIN:VEVENT
DTSTAMP;TZID=Asia/Hong_Kong:20260420T163758
DTSTART;TZID=Asia/Hong_Kong:20191019T160000
DTEND;TZID=Asia/Hong_Kong:20191019T180000
LOCATION:運動室 LG1027
SUMMARY:粵劇教育拓展項目2019 - 跟名伶學粵劇工作坊 - 第一班（逢星期一　下午 4:00 - 6:00）
UID:22503
END:VEVENT
BEGIN:VEVENT
DTSTAMP;TZID=Asia/Hong_Kong:20260420T163758
DTSTART;TZID=Asia/Hong_Kong:20191020T160000
DTEND;TZID=Asia/Hong_Kong:20191020T180000
LOCATION:運動室 LG1027
SUMMARY:粵劇教育拓展項目2019 - 跟名伶學粵劇工作坊 - 第一班（逢星期一　下午 4:00 - 6:00）
UID:22503
END:VEVENT
BEGIN:VEVENT
DTSTAMP;TZID=Asia/Hong_Kong:20260420T163758
DTSTART;TZID=Asia/Hong_Kong:20191021T160000
DTEND;TZID=Asia/Hong_Kong:20191021T180000
LOCATION:運動室 LG1027
SUMMARY:粵劇教育拓展項目2019 - 跟名伶學粵劇工作坊 - 第一班（逢星期一　下午 4:00 - 6:00）
UID:22503
END:VEVENT
BEGIN:VEVENT
DTSTAMP;TZID=Asia/Hong_Kong:20260420T163758
DTSTART;TZID=Asia/Hong_Kong:20191022T160000
DTEND;TZID=Asia/Hong_Kong:20191022T180000
LOCATION:運動室 LG1027
SUMMARY:粵劇教育拓展項目2019 - 跟名伶學粵劇工作坊 - 第一班（逢星期一　下午 4:00 - 6:00）
UID:22503
END:VEVENT
BEGIN:VEVENT
DTSTAMP;TZID=Asia/Hong_Kong:20260420T163758
DTSTART;TZID=Asia/Hong_Kong:20191023T160000
DTEND;TZID=Asia/Hong_Kong:20191023T180000
LOCATION:運動室 LG1027
SUMMARY:粵劇教育拓展項目2019 - 跟名伶學粵劇工作坊 - 第一班（逢星期一　下午 4:00 - 6:00）
UID:22503
END:VEVENT
BEGIN:VEVENT
DTSTAMP;TZID=Asia/Hong_Kong:20260420T163758
DTSTART;TZID=Asia/Hong_Kong:20191024T160000
DTEND;TZID=Asia/Hong_Kong:20191024T180000
LOCATION:運動室 LG1027
SUMMARY:粵劇教育拓展項目2019 - 跟名伶學粵劇工作坊 - 第一班（逢星期一　下午 4:00 - 6:00）
UID:22503
END:VEVENT
BEGIN:VEVENT
DTSTAMP;TZID=Asia/Hong_Kong:20260420T163758
DTSTART;TZID=Asia/Hong_Kong:20191025T160000
DTEND;TZID=Asia/Hong_Kong:20191025T180000
LOCATION:運動室 LG1027
SUMMARY:粵劇教育拓展項目2019 - 跟名伶學粵劇工作坊 - 第一班（逢星期一　下午 4:00 - 6:00）
UID:22503
END:VEVENT
BEGIN:VEVENT
DTSTAMP;TZID=Asia/Hong_Kong:20260420T163758
DTSTART;TZID=Asia/Hong_Kong:20191026T160000
DTEND;TZID=Asia/Hong_Kong:20191026T180000
LOCATION:運動室 LG1027
SUMMARY:粵劇教育拓展項目2019 - 跟名伶學粵劇工作坊 - 第一班（逢星期一　下午 4:00 - 6:00）
UID:22503
END:VEVENT
BEGIN:VEVENT
DTSTAMP;TZID=Asia/Hong_Kong:20260420T163758
DTSTART;TZID=Asia/Hong_Kong:20191027T160000
DTEND;TZID=Asia/Hong_Kong:20191027T180000
LOCATION:運動室 LG1027
SUMMARY:粵劇教育拓展項目2019 - 跟名伶學粵劇工作坊 - 第一班（逢星期一　下午 4:00 - 6:00）
UID:22503
END:VEVENT
BEGIN:VEVENT
DTSTAMP;TZID=Asia/Hong_Kong:20260420T163758
DTSTART;TZID=Asia/Hong_Kong:20191028T160000
DTEND;TZID=Asia/Hong_Kong:20191028T180000
LOCATION:運動室 LG1027
SUMMARY:粵劇教育拓展項目2019 - 跟名伶學粵劇工作坊 - 第一班（逢星期一　下午 4:00 - 6:00）
UID:22503
END:VEVENT
BEGIN:VEVENT
DTSTAMP;TZID=Asia/Hong_Kong:20260420T163758
DTSTART;TZID=Asia/Hong_Kong:20191029T160000
DTEND;TZID=Asia/Hong_Kong:20191029T180000
LOCATION:運動室 LG1027
SUMMARY:粵劇教育拓展項目2019 - 跟名伶學粵劇工作坊 - 第一班（逢星期一　下午 4:00 - 6:00）
UID:22503
END:VEVENT
BEGIN:VEVENT
DTSTAMP;TZID=Asia/Hong_Kong:20260420T163758
DTSTART;TZID=Asia/Hong_Kong:20191030T160000
DTEND;TZID=Asia/Hong_Kong:20191030T180000
LOCATION:運動室 LG1027
SUMMARY:粵劇教育拓展項目2019 - 跟名伶學粵劇工作坊 - 第一班（逢星期一　下午 4:00 - 6:00）
UID:22503
END:VEVENT
BEGIN:VEVENT
DTSTAMP;TZID=Asia/Hong_Kong:20260420T163758
DTSTART;TZID=Asia/Hong_Kong:20191031T160000
DTEND;TZID=Asia/Hong_Kong:20191031T180000
LOCATION:運動室 LG1027
SUMMARY:粵劇教育拓展項目2019 - 跟名伶學粵劇工作坊 - 第一班（逢星期一　下午 4:00 - 6:00）
UID:22503
END:VEVENT
BEGIN:VEVENT
DTSTAMP;TZID=Asia/Hong_Kong:20260420T163758
DTSTART;TZID=Asia/Hong_Kong:20191101T160000
DTEND;TZID=Asia/Hong_Kong:20191101T180000
LOCATION:運動室 LG1027
SUMMARY:粵劇教育拓展項目2019 - 跟名伶學粵劇工作坊 - 第一班（逢星期一　下午 4:00 - 6:00）
UID:22503
END:VEVENT
BEGIN:VEVENT
DTSTAMP;TZID=Asia/Hong_Kong:20260420T163758
DTSTART;TZID=Asia/Hong_Kong:20191102T160000
DTEND;TZID=Asia/Hong_Kong:20191102T180000
LOCATION:運動室 LG1027
SUMMARY:粵劇教育拓展項目2019 - 跟名伶學粵劇工作坊 - 第一班（逢星期一　下午 4:00 - 6:00）
UID:22503
END:VEVENT
BEGIN:VEVENT
DTSTAMP;TZID=Asia/Hong_Kong:20260420T163758
DTSTART;TZID=Asia/Hong_Kong:20191103T160000
DTEND;TZID=Asia/Hong_Kong:20191103T180000
LOCATION:運動室 LG1027
SUMMARY:粵劇教育拓展項目2019 - 跟名伶學粵劇工作坊 - 第一班（逢星期一　下午 4:00 - 6:00）
UID:22503
END:VEVENT
BEGIN:VEVENT
DTSTAMP;TZID=Asia/Hong_Kong:20260420T163758
DTSTART;TZID=Asia/Hong_Kong:20191104T160000
DTEND;TZID=Asia/Hong_Kong:20191104T180000
LOCATION:運動室 LG1027
SUMMARY:粵劇教育拓展項目2019 - 跟名伶學粵劇工作坊 - 第一班（逢星期一　下午 4:00 - 6:00）
UID:22503
END:VEVENT
BEGIN:VEVENT
DTSTAMP;TZID=Asia/Hong_Kong:20260420T163758
DTSTART;TZID=Asia/Hong_Kong:20191105T160000
DTEND;TZID=Asia/Hong_Kong:20191105T180000
LOCATION:運動室 LG1027
SUMMARY:粵劇教育拓展項目2019 - 跟名伶學粵劇工作坊 - 第一班（逢星期一　下午 4:00 - 6:00）
UID:22503
END:VEVENT
BEGIN:VEVENT
DTSTAMP;TZID=Asia/Hong_Kong:20260420T163758
DTSTART;TZID=Asia/Hong_Kong:20191106T160000
DTEND;TZID=Asia/Hong_Kong:20191106T180000
LOCATION:運動室 LG1027
SUMMARY:粵劇教育拓展項目2019 - 跟名伶學粵劇工作坊 - 第一班（逢星期一　下午 4:00 - 6:00）
UID:22503
END:VEVENT
BEGIN:VEVENT
DTSTAMP;TZID=Asia/Hong_Kong:20260420T163758
DTSTART;TZID=Asia/Hong_Kong:20191107T160000
DTEND;TZID=Asia/Hong_Kong:20191107T180000
LOCATION:運動室 LG1027
SUMMARY:粵劇教育拓展項目2019 - 跟名伶學粵劇工作坊 - 第一班（逢星期一　下午 4:00 - 6:00）
UID:22503
END:VEVENT
BEGIN:VEVENT
DTSTAMP;TZID=Asia/Hong_Kong:20260420T163758
DTSTART;TZID=Asia/Hong_Kong:20191108T160000
DTEND;TZID=Asia/Hong_Kong:20191108T180000
LOCATION:運動室 LG1027
SUMMARY:粵劇教育拓展項目2019 - 跟名伶學粵劇工作坊 - 第一班（逢星期一　下午 4:00 - 6:00）
UID:22503
END:VEVENT
BEGIN:VEVENT
DTSTAMP;TZID=Asia/Hong_Kong:20260420T163758
DTSTART;TZID=Asia/Hong_Kong:20191109T160000
DTEND;TZID=Asia/Hong_Kong:20191109T180000
LOCATION:運動室 LG1027
SUMMARY:粵劇教育拓展項目2019 - 跟名伶學粵劇工作坊 - 第一班（逢星期一　下午 4:00 - 6:00）
UID:22503
END:VEVENT
BEGIN:VEVENT
DTSTAMP;TZID=Asia/Hong_Kong:20260420T163758
DTSTART;TZID=Asia/Hong_Kong:20191110T160000
DTEND;TZID=Asia/Hong_Kong:20191110T180000
LOCATION:運動室 LG1027
SUMMARY:粵劇教育拓展項目2019 - 跟名伶學粵劇工作坊 - 第一班（逢星期一　下午 4:00 - 6:00）
UID:22503
END:VEVENT
BEGIN:VEVENT
DTSTAMP;TZID=Asia/Hong_Kong:20260420T163758
DTSTART;TZID=Asia/Hong_Kong:20191111T160000
DTEND;TZID=Asia/Hong_Kong:20191111T180000
LOCATION:運動室 LG1027
SUMMARY:粵劇教育拓展項目2019 - 跟名伶學粵劇工作坊 - 第一班（逢星期一　下午 4:00 - 6:00）
UID:22503
END:VEVENT
BEGIN:VEVENT
DTSTAMP;TZID=Asia/Hong_Kong:20260420T163758
DTSTART;TZID=Asia/Hong_Kong:20191112T160000
DTEND;TZID=Asia/Hong_Kong:20191112T180000
LOCATION:運動室 LG1027
SUMMARY:粵劇教育拓展項目2019 - 跟名伶學粵劇工作坊 - 第一班（逢星期一　下午 4:00 - 6:00）
UID:22503
END:VEVENT
BEGIN:VEVENT
DTSTAMP;TZID=Asia/Hong_Kong:20260420T163758
DTSTART;TZID=Asia/Hong_Kong:20191113T160000
DTEND;TZID=Asia/Hong_Kong:20191113T180000
LOCATION:運動室 LG1027
SUMMARY:粵劇教育拓展項目2019 - 跟名伶學粵劇工作坊 - 第一班（逢星期一　下午 4:00 - 6:00）
UID:22503
END:VEVENT
BEGIN:VEVENT
DTSTAMP;TZID=Asia/Hong_Kong:20260420T163758
DTSTART;TZID=Asia/Hong_Kong:20191114T160000
DTEND;TZID=Asia/Hong_Kong:20191114T180000
LOCATION:運動室 LG1027
SUMMARY:粵劇教育拓展項目2019 - 跟名伶學粵劇工作坊 - 第一班（逢星期一　下午 4:00 - 6:00）
UID:22503
END:VEVENT
BEGIN:VEVENT
DTSTAMP;TZID=Asia/Hong_Kong:20260420T163758
DTSTART;TZID=Asia/Hong_Kong:20191115T160000
DTEND;TZID=Asia/Hong_Kong:20191115T180000
LOCATION:運動室 LG1027
SUMMARY:粵劇教育拓展項目2019 - 跟名伶學粵劇工作坊 - 第一班（逢星期一　下午 4:00 - 6:00）
UID:22503
END:VEVENT
BEGIN:VEVENT
DTSTAMP;TZID=Asia/Hong_Kong:20260420T163758
DTSTART;TZID=Asia/Hong_Kong:20191116T160000
DTEND;TZID=Asia/Hong_Kong:20191116T180000
LOCATION:運動室 LG1027
SUMMARY:粵劇教育拓展項目2019 - 跟名伶學粵劇工作坊 - 第一班（逢星期一　下午 4:00 - 6:00）
UID:22503
END:VEVENT
BEGIN:VEVENT
DTSTAMP;TZID=Asia/Hong_Kong:20260420T163758
DTSTART;TZID=Asia/Hong_Kong:20191117T160000
DTEND;TZID=Asia/Hong_Kong:20191117T180000
LOCATION:運動室 LG1027
SUMMARY:粵劇教育拓展項目2019 - 跟名伶學粵劇工作坊 - 第一班（逢星期一　下午 4:00 - 6:00）
UID:22503
END:VEVENT
BEGIN:VEVENT
DTSTAMP;TZID=Asia/Hong_Kong:20260420T163758
DTSTART;TZID=Asia/Hong_Kong:20191118T160000
DTEND;TZID=Asia/Hong_Kong:20191118T180000
LOCATION:運動室 LG1027
SUMMARY:粵劇教育拓展項目2019 - 跟名伶學粵劇工作坊 - 第一班（逢星期一　下午 4:00 - 6:00）
UID:22503
END:VEVENT
END:VCALENDAR