BEGIN:VCALENDAR
PRODID:-//HKUST Drupal Platform//EN
VERSION:2.0
BEGIN:VTIMEZONE
TZID:Asia/Hong_Kong
BEGIN:STANDARD
DTSTART:20071104T020000
TZOFFSETFROM:+0700
TZOFFSETTO:+0800
TZNAME:HKT
END:STANDARD
END:VTIMEZONE
BEGIN:VEVENT
DTSTAMP;TZID=Asia/Hong_Kong:20260420T153658
DTSTART;TZID=Asia/Hong_Kong:20190910T130000
DTEND;TZID=Asia/Hong_Kong:20190910T140000
LOCATION:Room 4334, Lift 3
SUMMARY:Sustainable Smart Campus Leadership Program Information Session
UID:22462
END:VEVENT
END:VCALENDAR