BEGIN:VCALENDAR
PRODID:-//HKUST Drupal Platform//EN
VERSION:2.0
BEGIN:VTIMEZONE
TZID:Asia/Hong_Kong
BEGIN:STANDARD
DTSTART:20071104T020000
TZOFFSETFROM:+0700
TZOFFSETTO:+0800
TZNAME:HKT
END:STANDARD
END:VTIMEZONE
BEGIN:VEVENT
DTSTAMP;TZID=Asia/Hong_Kong:20260420T153658
DTSTART;TZID=Asia/Hong_Kong:20190905T143000
DTEND;TZID=Asia/Hong_Kong:20190905T160000
LOCATION:IAS 2042, 2/F, Lo Ka Chung Building, Lee Shau Kee Campus, HKUST
SUMMARY:GSCI and ISD Joint Seminar - Designing Tomorrow’s Cities Today: through the Lens of a Car
UID:22460
END:VEVENT
END:VCALENDAR