BEGIN:VCALENDAR
PRODID:-//HKUST Drupal Platform//EN
VERSION:2.0
BEGIN:VTIMEZONE
TZID:Asia/Hong_Kong
BEGIN:STANDARD
DTSTART:20071104T020000
TZOFFSETFROM:+0700
TZOFFSETTO:+0800
TZNAME:HKT
END:STANDARD
END:VTIMEZONE
BEGIN:VEVENT
DTSTAMP;TZID=Asia/Hong_Kong:20260421T005138
DTSTART;TZID=Asia/Hong_Kong:20190905T193000
DTEND;TZID=Asia/Hong_Kong:20190905T210000
LOCATION:Multi-Purpose Hall, JCH
SUMMARY:Jockey Club Hall Orientation Dinner
UID:22447
END:VEVENT
END:VCALENDAR