BEGIN:VCALENDAR
PRODID:-//HKUST Drupal Platform//EN
VERSION:2.0
BEGIN:VTIMEZONE
TZID:Asia/Hong_Kong
BEGIN:STANDARD
DTSTART:20071104T020000
TZOFFSETFROM:+0700
TZOFFSETTO:+0800
TZNAME:HKT
END:STANDARD
END:VTIMEZONE
BEGIN:VEVENT
DTSTAMP;TZID=Asia/Hong_Kong:20260420T153657
DTSTART;TZID=Asia/Hong_Kong:20191016T130000
DTEND;TZID=Asia/Hong_Kong:20191016T140000
LOCATION:Tsang Shiu Tim Art Hall, HKUST
SUMMARY:Russian Mandolin and Domra Concert by Ekaterina Mochalova
UID:22438
END:VEVENT
END:VCALENDAR