BEGIN:VCALENDAR
PRODID:-//HKUST Drupal Platform//EN
VERSION:2.0
BEGIN:VTIMEZONE
TZID:Asia/Hong_Kong
BEGIN:STANDARD
DTSTART:20071104T020000
TZOFFSETFROM:+0700
TZOFFSETTO:+0800
TZNAME:HKT
END:STANDARD
END:VTIMEZONE
BEGIN:VEVENT
DTSTAMP;TZID=Asia/Hong_Kong:20260420T060259
DTSTART;TZID=Asia/Hong_Kong:20191031T110000
DTEND;TZID=Asia/Hong_Kong:20191031T120000
LOCATION:Rm 3598 (Lift 27/28), Academic Complex, HKUST
SUMMARY:ECE Department Seminar - Cooperative Multi-agent circumnavigation of Algal blooms
UID:22402
END:VEVENT
END:VCALENDAR